{"text_format":"1","workbook":"xlsx","n_sheets":3,"sheets":["map europe","data","control"],"not_rendered":{"charts":0,"images":0,"macros":1,"external_links":0,"defined_names":8,"comments":0,"pivot_tables":0},"unopened":[],"bounds":{"document_bytes":16777216,"sheet_cells":100000,"rows_first":2000,"rows_last":500,"rows_between":2000,"halvings":0,"cell_chars":16384,"cell_head_chars":4096},"cells_cut":0,"cells_raw":0,"read":"whole","date_system":"1900"}

{"sheet":"map europe","index":0,"n_rows":39,"n_cols":12,"rows_kept":39,"cut":false,"hidden":false,"merged":[]}
[]
[null,"Choropleth Map Europe",null,null,null,null,"Year",null,null,"Colors"]
[]
[null,null,null,null,null,null,null,null,null,null,null,"www.clearlyandsimply.com"]
[]
[]
[]
[]
[]
[]
[]
[]
[]
[]
[]
[]
[null,null,{"$f":"control!D19","v":"0%  to 2%"}]
[null,null,{"$f":"control!D20","v":"2% to 4%"}]
[null,null,{"$f":"control!D21","v":"4% to 6%"}]
[null,null,{"$f":"control!D22","v":"6% to 8%"}]
[null,null,{"$f":"control!D23","v":"8% to 10%"}]
[null,null,{"$f":"control!D24","v":"10% to 12%"}]
[null,null,{"$f":"control!D25","v":"12% to 14%"}]
[null,null,{"$f":"control!D26","v":"14% to 16%"}]
[null,null,{"$f":"control!D27","v":"16% to 18%"}]
[null,null,{"$f":"control!D28","v":"18% or more"}]
[]
[]
[]
[]
[]
[]
[]
[]
[]
[]
[]
[]
[null,null,null,null,null,null,null,null,null,null,null,{"$f":"data!D2","v":"Source: dummy data"}]

{"sheet":"data","index":1,"n_rows":51,"n_cols":17,"rows_kept":51,"cut":false,"hidden":false,"merged":[]}
[]
[null,"Data",null,"Source: dummy data",null,null,null,null,null,null,null,null,null,null,"Selection / Shape Definition"]
[]
[null,"The source data",null,null,null,null,null,null,null,null,null,null,null,null,"Calculation of selected data, shape name definition and shape index"]
[null,"No.","Country",2003,2004,2005,2006,2007,2008,2009,2010,2011,2012,null,"Selection","Shape Names","Shape Index"]
[null,1,"Albania",9.6000000000000002E-2,8.5999999999999993E-2,9.6000000000000002E-2,8.4000000000000005E-2,7.6999999999999999E-2,8.3000000000000004E-2,9.9000000000000005E-2,0.105,0.111,0.12216666666666667,null,{"$f":"INDEX($D6:$M6,1,control!$C$15)","v":9.9000000000000005E-2},"S_ALB",1]
[null,{"$f":"B6+1","v":2},"Andorra",6.3E-2,6.4000000000000001E-2,5.7000000000000002E-2,5.5999999999999994E-2,5.2000000000000005E-2,5.5999999999999994E-2,7.0000000000000007E-2,6.9000000000000006E-2,7.8E-2,8.7333333333333318E-2,null,{"$f":"INDEX($D7:$M7,1,control!$C$15)","v":7.0000000000000007E-2},"S_AND",2]
[null,{"$f":"B7+1","v":3},"Austria",6.2E-2,5.9000000000000004E-2,5.5E-2,5.2000000000000005E-2,4.9000000000000002E-2,5.2000000000000005E-2,6.5000000000000002E-2,6.8000000000000005E-2,6.0999999999999999E-2,5.9000000000000011E-2,null,{"$f":"INDEX($D8:$M8,1,control!$C$15)","v":6.5000000000000002E-2},"S_AUT",3]
[null,4,"Belarus",0.12,0.126,0.128,0.13,0.12300000000000001,0.13400000000000001,0.14099999999999999,0.14899999999999999,0.14699999999999999,0.15700000000000003,null,{"$f":"INDEX($D9:$M9,1,control!$C$15)","v":0.14099999999999999},"S_BLR",7]
[null,5,"Belgium",6.0999999999999999E-2,6.3E-2,5.9000000000000004E-2,5.2999999999999999E-2,4.4999999999999998E-2,4.7E-2,4.8000000000000001E-2,4.7E-2,3.9E-2,7.9833333333333339E-2,null,{"$f":"INDEX($D10:$M10,1,control!$C$15)","v":4.8000000000000001E-2},"S_BEL",4]
[null,6,"Bosnia and Herzegovina",8.5999999999999993E-2,7.9000000000000001E-2,6.6000000000000003E-2,5.7000000000000002E-2,0.06,5.9000000000000004E-2,8.3000000000000004E-2,8.900000000000001E-2,9.9000000000000005E-2,0.15350000000000003,null,{"$f":"INDEX($D11:$M11,1,control!$C$15)","v":8.3000000000000004E-2},"S_BIH",6]
[null,7,"Bulgaria",0.11,0.10800000000000001,0.107,9.4E-2,8.8000000000000009E-2,0.09,0.10199999999999999,0.10099999999999999,0.10199999999999999,0.10566666666666664,null,{"$f":"INDEX($D12:$M12,1,control!$C$15)","v":0.10199999999999999},"S_BGR",5]
[null,8,"Croatia",6.9000000000000006E-2,6.4000000000000001E-2,5.7999999999999996E-2,5.5999999999999994E-2,5.2999999999999999E-2,5.7999999999999996E-2,7.0999999999999994E-2,6.9000000000000006E-2,6.7000000000000004E-2,6.8666666666666668E-2,null,{"$f":"INDEX($D13:$M13,1,control!$C$15)","v":7.0999999999999994E-2},"S_HRV",20]
[null,9,"Cyprus",0.115,9.9000000000000005E-2,0.09,7.9000000000000001E-2,7.0999999999999994E-2,8.5000000000000006E-2,0.09,9.0999999999999998E-2,8.199999999999999E-2,0.10049999999999999,null,{"$f":"INDEX($D14:$M14,1,control!$C$15)","v":0.09},"S_CYP",9]
[null,10,"Czech Republic",5.7000000000000002E-2,5.7999999999999996E-2,5.2999999999999999E-2,4.8000000000000001E-2,4.2999999999999997E-2,4.5999999999999999E-2,5.9000000000000004E-2,5.7999999999999996E-2,5.2999999999999999E-2,5.1000000000000004E-2,null,{"$f":"INDEX($D15:$M15,1,control!$C$15)","v":5.9000000000000004E-2},"S_CZE",10]
[null,11,"Denmark",0.1,9.5000000000000001E-2,8.6999999999999994E-2,8.1000000000000003E-2,7.5999999999999998E-2,7.9000000000000001E-2,9.8000000000000004E-2,0.1,9.3000000000000013E-2,9.2666666666666675E-2,null,{"$f":"INDEX($D16:$M16,1,control!$C$15)","v":9.8000000000000004E-2},"S_DNK",12]
[null,12,"Estonia",0.08,7.400000000000001E-2,6.7000000000000004E-2,0.06,5.4000000000000006E-2,5.7000000000000002E-2,7.0999999999999994E-2,7.6999999999999999E-2,7.2999999999999995E-2,7.7333333333333337E-2,null,{"$f":"INDEX($D17:$M17,1,control!$C$15)","v":7.0999999999999994E-2},"S_EST",14]
[null,13,"Finland",9.6000000000000002E-2,8.6999999999999994E-2,8.3000000000000004E-2,7.2999999999999995E-2,0.06,6.6000000000000003E-2,7.2000000000000008E-2,7.2000000000000008E-2,6.9000000000000006E-2,6.1500000000000013E-2,null,{"$f":"INDEX($D18:$M18,1,control!$C$15)","v":7.2000000000000008E-2},"S_FIN",15]
[null,14,"France",0.08,9.8000000000000004E-2,7.2999999999999995E-2,5.9000000000000004E-2,5.2999999999999999E-2,6.6000000000000003E-2,8.1000000000000003E-2,0.08,7.9000000000000001E-2,0.10033333333333333,null,{"$f":"INDEX($D19:$M19,1,control!$C$15)","v":8.1000000000000003E-2},"S_FRA",16]
[null,15,"Germany",8.5999999999999993E-2,8.3000000000000004E-2,7.5999999999999998E-2,7.400000000000001E-2,6.9000000000000006E-2,7.2999999999999995E-2,8.900000000000001E-2,9.0999999999999998E-2,8.900000000000001E-2,9.1333333333333322E-2,null,{"$f":"INDEX($D20:$M20,1,control!$C$15)","v":8.900000000000001E-2},"S_DEU",11]
[null,16,"Greece",0.107,0.115,0.124,0.11900000000000001,0.107,0.1,0.11699999999999999,0.127,0.12300000000000001,0.11966666666666667,null,{"$f":"INDEX($D21:$M21,1,control!$C$15)","v":0.11699999999999999},"S_GRC",18]
[null,17,"Greenland",0.10099999999999999,0.10199999999999999,0.09,6.7000000000000004E-2,5.2000000000000005E-2,4.0999999999999995E-2,4.7E-2,5.9000000000000004E-2,5.4000000000000006E-2,5.4833333333333331E-2,null,{"$f":"INDEX($D22:$M22,1,control!$C$15)","v":4.7E-2},"S_GRL",19]
[null,18,"Hungary",0.13,0.13200000000000001,0.11900000000000001,0.11199999999999999,0.10400000000000001,0.111,0.11900000000000001,0.13100000000000001,0.14699999999999999,0.15600000000000003,null,{"$f":"INDEX($D23:$M23,1,control!$C$15)","v":0.11900000000000001},"S_HUN",21]
[null,19,"Iceland",0.14400000000000002,0.13400000000000001,0.13100000000000001,0.14099999999999999,0.13100000000000001,0.13300000000000001,0.152,0.14800000000000002,0.153,0.16633333333333333,null,{"$f":"INDEX($D24:$M24,1,control!$C$15)","v":0.152},"S_ISL",23]
[null,20,"Ireland",6.0999999999999999E-2,6.3E-2,5.5E-2,5.2999999999999999E-2,4.9000000000000002E-2,5.5999999999999994E-2,6.2E-2,6.4000000000000001E-2,6.0999999999999999E-2,6.25E-2,null,{"$f":"INDEX($D25:$M25,1,control!$C$15)","v":6.2E-2},"S_IRL",22]
[null,21,"Italy",0.11699999999999999,0.13100000000000001,0.13300000000000001,0.125,0.12,0.124,0.14699999999999999,0.13500000000000001,0.14300000000000002,0.27600000000000002,null,{"$f":"INDEX($D26:$M26,1,control!$C$15)","v":0.14699999999999999},"S_ITA",24]
[null,22,"Latvia",0.127,0.11900000000000001,0.105,0.106,8.4000000000000005E-2,8.5000000000000006E-2,9.6000000000000002E-2,0.10800000000000001,0.109,0.114,null,{"$f":"INDEX($D27:$M27,1,control!$C$15)","v":9.6000000000000002E-2},"S_LVA",28]
[null,23,"Liechtenstein",9.9000000000000005E-2,9.9000000000000005E-2,9.5000000000000001E-2,8.4000000000000005E-2,8.1000000000000003E-2,8.1000000000000003E-2,8.5000000000000006E-2,8.900000000000001E-2,9.0999999999999998E-2,9.7333333333333327E-2,null,{"$f":"INDEX($D28:$M28,1,control!$C$15)","v":8.5000000000000006E-2},"S_LIE",25]
[null,24,"Lithuania",0.17699999999999999,0.20100000000000001,0.20899999999999999,0.20499999999999999,0.19699999999999998,0.19800000000000001,0.20800000000000002,0.20300000000000001,0.20399999999999999,0.22083333333333333,null,{"$f":"INDEX($D29:$M29,1,control!$C$15)","v":0.20800000000000002},"S_LTU",26]
[null,25,"Luxembourg",0.12,0.12300000000000001,0.10099999999999999,9.4E-2,9.3000000000000013E-2,0.10199999999999999,0.10400000000000001,0.106,8.5999999999999993E-2,0.11599999999999999,null,{"$f":"INDEX($D30:$M30,1,control!$C$15)","v":0.10400000000000001},"S_LUX",27]
[null,26,"Macedonia, the former Yugoslav Republic of",0.111,0.107,0.106,9.6000000000000002E-2,6.5000000000000002E-2,7.2000000000000008E-2,0.115,0.11,0.107,0.11433333333333331,null,{"$f":"INDEX($D31:$M31,1,control!$C$15)","v":0.115},"S_MKD",31]
[null,27,"Malta",0.13300000000000001,0.11900000000000001,0.11699999999999999,0.129,0.13300000000000001,0.13600000000000001,0.14099999999999999,0.15,0.157,0.16483333333333333,null,{"$f":"INDEX($D32:$M32,1,control!$C$15)","v":0.14099999999999999},"S_MLT",32]
[null,28,"Moldova, Republic of",4.5999999999999999E-2,4.2999999999999997E-2,3.2000000000000001E-2,2.8999999999999998E-2,2.7999999999999997E-2,4.4999999999999998E-2,8.6999999999999994E-2,7.8E-2,0.08,6.7666666666666667E-2,null,{"$f":"INDEX($D33:$M33,1,control!$C$15)","v":8.6999999999999994E-2},"S_MDA",30]
[null,29,"Monaco",4.4999999999999998E-2,4.5999999999999999E-2,3.4000000000000002E-2,2.7999999999999997E-2,2.7000000000000003E-2,4.0999999999999995E-2,8.8000000000000009E-2,8.900000000000001E-2,8.1000000000000003E-2,7.0333333333333345E-2,null,{"$f":"INDEX($D34:$M34,1,control!$C$15)","v":8.8000000000000009E-2},"S_MCO",29]
[null,30,"Montenegro",6.4000000000000001E-2,6.4000000000000001E-2,4.9000000000000002E-2,4.9000000000000002E-2,5.4000000000000006E-2,7.8E-2,0.129,0.11699999999999999,0.114,0.1125,null,{"$f":"INDEX($D35:$M35,1,control!$C$15)","v":0.129},"S_MNE",33]
[null,31,"Netherlands",5.4000000000000006E-2,4.9000000000000002E-2,3.7999999999999999E-2,3.6000000000000004E-2,3.5000000000000003E-2,5.2000000000000005E-2,0.12,0.10300000000000001,9.9000000000000005E-2,8.2333333333333328E-2,null,{"$f":"INDEX($D36:$M36,1,control!$C$15)","v":0.12},"S_NLD",34]
[null,32,"Norway",4.2000000000000003E-2,3.7000000000000005E-2,3.1E-2,2.7999999999999997E-2,2.7000000000000003E-2,4.0999999999999995E-2,0.09,0.09,8.3000000000000004E-2,6.8833333333333344E-2,null,{"$f":"INDEX($D37:$M37,1,control!$C$15)","v":0.09},"S_NOR",35]
[null,33,"Poland",0.1,0.10400000000000001,8.1000000000000003E-2,7.6999999999999999E-2,8.199999999999999E-2,9.4E-2,0.14099999999999999,0.14699999999999999,0.153,0.12966666666666668,null,{"$f":"INDEX($D38:$M38,1,control!$C$15)","v":0.14099999999999999},"S_POL",36]
[null,34,"Portugal",7.9000000000000001E-2,8.5000000000000006E-2,5.5E-2,4.9000000000000002E-2,5.2999999999999999E-2,7.5999999999999998E-2,0.14800000000000002,0.12300000000000001,0.11599999999999999,0.11050000000000003,null,{"$f":"INDEX($D39:$M39,1,control!$C$15)","v":0.14800000000000002},"S_PRT",37]
[null,35,"Romania",5.4000000000000006E-2,4.9000000000000002E-2,3.7999999999999999E-2,3.5000000000000003E-2,3.4000000000000002E-2,0.05,0.1,9.6999999999999989E-2,9.1999999999999998E-2,0.08,null,{"$f":"INDEX($D40:$M40,1,control!$C$15)","v":0.1},"S_ROU",38]
[null,36,"Russian Federation",5.7999999999999996E-2,6.2E-2,4.9000000000000002E-2,0.05,5.5999999999999994E-2,0.129,0.17800000000000002,0.13699999999999998,0.114,0.10033333333333333,null,{"$f":"INDEX($D41:$M41,1,control!$C$15)","v":0.17800000000000002},"S_RUS",39]
[null,37,"San Marino",4.4000000000000004E-2,4.2999999999999997E-2,3.7000000000000005E-2,3.6000000000000004E-2,3.6000000000000004E-2,5.0999999999999997E-2,0.105,9.3000000000000013E-2,8.6999999999999994E-2,7.6333333333333336E-2,null,{"$f":"INDEX($D42:$M42,1,control!$C$15)","v":0.105},"S_SMR",40]
[null,38,"Serbia",4.4999999999999998E-2,4.2000000000000003E-2,3.3000000000000002E-2,3.1E-2,2.8999999999999998E-2,4.4999999999999998E-2,9.6000000000000002E-2,9.1999999999999998E-2,8.5999999999999993E-2,7.0666666666666669E-2,null,{"$f":"INDEX($D43:$M43,1,control!$C$15)","v":9.6000000000000002E-2},"S_SRB",41]
[null,39,"Slovakia",9.0999999999999998E-2,7.6999999999999999E-2,5.5999999999999994E-2,4.8000000000000001E-2,5.0999999999999997E-2,7.400000000000001E-2,0.122,0.113,0.114,9.6500000000000002E-2,null,{"$f":"INDEX($D44:$M44,1,control!$C$15)","v":0.122},"S_SVK",42]
[null,40,"Slovenia",7.8E-2,7.9000000000000001E-2,5.5E-2,5.4000000000000006E-2,5.2000000000000005E-2,0.08,0.15,0.156,0.152,0.125,null,{"$f":"INDEX($D45:$M45,1,control!$C$15)","v":0.15},"S_SVN",43]
[null,41,"Spain",6.6000000000000003E-2,5.7000000000000002E-2,4.2000000000000003E-2,3.9E-2,4.7E-2,7.0000000000000007E-2,0.151,0.13800000000000001,0.11800000000000001,9.7333333333333341E-2,null,{"$f":"INDEX($D46:$M46,1,control!$C$15)","v":0.151},"S_ESP",13]
[null,42,"Sweden",5.5E-2,4.7E-2,3.4000000000000002E-2,0.03,3.1E-2,4.4999999999999998E-2,9.1999999999999998E-2,8.3000000000000004E-2,8.3000000000000004E-2,7.0499999999999993E-2,null,{"$f":"INDEX($D47:$M47,1,control!$C$15)","v":9.1999999999999998E-2},"S_SWE",44]
[null,43,"Switzerland",0.05,4.8000000000000001E-2,3.3000000000000002E-2,3.2000000000000001E-2,3.3000000000000002E-2,4.2999999999999997E-2,7.5999999999999998E-2,7.400000000000001E-2,7.0999999999999994E-2,6.3666666666666663E-2,null,{"$f":"INDEX($D48:$M48,1,control!$C$15)","v":7.5999999999999998E-2},"S_CHE",8]
[null,44,"Turkey",6.8000000000000005E-2,6.3E-2,4.5999999999999999E-2,0.04,0.04,5.7999999999999996E-2,0.105,9.8000000000000004E-2,0.09,8.0333333333333326E-2,null,{"$f":"INDEX($D49:$M49,1,control!$C$15)","v":0.105},"S_TUR",45]
[null,45,"Ukraine",7.8E-2,7.5999999999999998E-2,5.2999999999999999E-2,4.9000000000000002E-2,5.5E-2,8.3000000000000004E-2,0.18100000000000002,0.16300000000000001,0.14800000000000002,0.12133333333333333,null,{"$f":"INDEX($D50:$M50,1,control!$C$15)","v":0.18100000000000002},"S_UKR",46]
[null,46,"United Kingdom",7.400000000000001E-2,6.3E-2,4.2999999999999997E-2,4.8000000000000001E-2,0.05,7.2999999999999995E-2,0.14499999999999999,0.128,0.106,9.0166666666666673E-2,null,{"$f":"INDEX($D51:$M51,1,control!$C$15)","v":0.14499999999999999},"S_GBR",17]

{"sheet":"control","index":2,"n_rows":57,"n_cols":28,"rows_kept":57,"cut":false,"hidden":false,"merged":[[6,5,8,9],[4,5,4,9]]}
[]
[null,"Control"]
[]
[null,"Metrics",{"$f":"data!$D$5","v":2003}]
[null,null,{"$f":"data!$E$5","v":2004},null,null,"Select a color scale here"]
[null,null,{"$f":"data!$F$5","v":2005}]
[null,null,{"$f":"data!$G$5","v":2006},null,null,"Recreate the shape index after you inserted a new map or added new shapes"]
[null,null,{"$f":"data!$H$5","v":2007}]
[null,null,{"$f":"data!$I$5","v":2008}]
[null,null,{"$f":"data!$J$5","v":2009}]
[null,null,{"$f":"data!$K$5","v":2010}]
[null,null,{"$f":"data!$L$5","v":2011}]
[null,null,{"$f":"data!$M$5","v":2012}]
[]
[null,"Selection",7]
[]
[null,null,null,null,null,1,{"$f":"F17+1","v":2},{"$f":"G17+1","v":3},4,5,6,7,8,9,10,11,12,13,14,15,16,17,18,19,20,21,22,{"$f":"AA17+1","v":23}]
[null,"Threshold","RGB","Legend",null,{"$f":"$C$31","v":"Green Yellow Red"},{"$f":"$C$32","v":"Green to Pink"},{"$f":"$C$33","v":"Green to Purple"},{"$f":"$C$34","v":"Green to Brown"},{"$f":"$C$35","v":"Blue to Red"},{"$f":"$C$36","v":"Blue to Red Brown"},{"$f":"$C$37","v":"Brown to Purple"},{"$f":"$C$38","v":"Brown Blue Green"},{"$f":"$C$39","v":"Purple to Green"},{"$f":"$C$40","v":"Pink to Green"},{"$f":"$C$41","v":"Red to Blue"},{"$f":"$C$42","v":"Red to Green"},{"$f":"$C$43","v":"Red Yellow Blue"},{"$f":"$C$44","v":"Spectral"},{"$f":"$C$45","v":"Red Yellow Green"},{"$f":"$C$46","v":"Light"},{"$f":"$C$47","v":"Pairwise"},{"$f":"$C$48","v":"Light to Dark Blue"},{"$f":"$C$49","v":"Light to Dark Red"},{"$f":"$C$50","v":"Light to Dark Brown"},{"$f":"$C$51","v":"Light to Dark Green"},{"$f":"$C$52","v":"Light to Dark Yellow"},{"$f":"$C$53","v":"Light Grey to Black"}]
[null,0.02,3631104,{"$f":"\"0%  to \"&TEXT(B19,\"0%\")","v":"0%  to 2%"}]
[null,0.04,5281818,{"$f":"TEXT(B19,\"0%\")&\" to \"&TEXT(B20,\"0%\")","v":"2% to 4%"}]
[null,0.06,6536550,{"$f":"TEXT(B20,\"0%\")&\" to \"&TEXT(B21,\"0%\")","v":"4% to 6%"}]
[null,0.08,7002534,"6% to 8%"]
[null,0.1,9170905,"8% to 10%"]
[null,0.12,9167102,"10% to 12%"]
[null,0.14000000000000001,6401789,"12% to 14%"]
[null,0.16,4419060,"14% to 16%"]
[null,0.18,2568407,"16% to 18%"]
[null,1,2490533,{"$f":"TEXT(B27,\"0%\")&\" or more\"","v":"18% or more"}]
[null,null,null,null,null,{"$f":"IF(F$17=myColorScaleSelection,\"▲\",\"\")","v":"▲"},"","","","","","","","","","","","","","","","","","","","","",""]
[null,null,null,null,null,{"$f":"IF(F$17=myColorScaleSelection,\"Current Selection\",\"\")","v":"Current Selection"},"","","","","","","","","","","","","","","","","","","","","",""]
[null,"Color Scales","Green Yellow Red"]
[null,null,"Green to Pink"]
[null,null,"Green to Purple"]
[null,null,"Green to Brown"]
[null,null,"Blue to Red"]
[null,null,"Blue to Red Brown"]
[null,null,"Brown to Purple"]
[null,null,"Brown Blue Green"]
[null,null,"Purple to Green"]
[null,null,"Pink to Green"]
[null,null,"Red to Blue"]
[null,null,"Red to Green"]
[null,null,"Red Yellow Blue"]
[null,null,"Spectral"]
[null,null,"Red Yellow Green"]
[null,null,"Light"]
[null,null,"Pairwise"]
[null,null,"Light to Dark Blue"]
[null,null,"Light to Dark Red"]
[null,null,"Light to Dark Brown"]
[null,null,"Light to Dark Green"]
[null,null,"Light to Dark Yellow"]
[null,null,"Light Grey to Black"]
[]
[null,"Selection",1]
[]
[null,"Show Status Bar",true]